BEGIN:VCALENDAR
VERSION:2.0
PRODID:-//jEvents 2.0 for Joomla//EN
CALSCALE:GREGORIAN
METHOD:PUBLISH
BEGIN:VTIMEZONE
TZID:Europe/Vienna
END:VTIMEZONE
BEGIN:VEVENT
UID:41d761bb50bd498524c2ac34a8ac76b2
CATEGORIES:DEFAULT
SUMMARY:B Liga: Schmelz - Mödling
DESCRIPTION;ENCODING=QUOTED-PRINTABLE:\n\nauswärts in Wien, 15. Oeverseestrasse 1 (SPÖ LOkal)\n
DTSTAMP:20260419T171434Z
DTSTART;TZID=Europe/Vienna:20221203T150000
DTEND;TZID=Europe/Vienna:20221203T210000
SEQUENCE:0
TRANSP:OPAQUE
END:VEVENT
END:VCALENDAR