BEGIN:VCALENDAR
VERSION:2.0
PRODID:-//jEvents 2.0 for Joomla//EN
CALSCALE:GREGORIAN
METHOD:PUBLISH
BEGIN:VTIMEZONE
TZID:Europe/Vienna
END:VTIMEZONE
BEGIN:VEVENT
UID:c6f4fdc400435e0d05adf625f33b5bc2
CATEGORIES:DEFAULT
SUMMARY:B Liga: Favoriten - Mödling
DESCRIPTION;ENCODING=QUOTED-PRINTABLE:<p>auswärts im Cafe Anningerblick</p><p>10.Dr Eberle Gasse 3</p>
DTSTAMP:20260419T173232Z
DTSTART;TZID=Europe/Vienna:20221126T150000
DTEND;TZID=Europe/Vienna:20221126T210000
SEQUENCE:0
TRANSP:OPAQUE
END:VEVENT
END:VCALENDAR