BEGIN:VCALENDAR
VERSION:2.0
PRODID:-//jEvents 2.0 for Joomla//EN
CALSCALE:GREGORIAN
METHOD:PUBLISH
BEGIN:VTIMEZONE
TZID:Europe/Vienna
END:VTIMEZONE
BEGIN:VEVENT
UID:5f9ff7468f7cd5590e2fc871ae6cad5e
CATEGORIES:DEFAULT
SUMMARY:1.Klasse Süd: Mödling - Schmelz
DESCRIPTION;ENCODING=QUOTED-PRINTABLE:\n\nHeimspiel im BG Mödling, Untere Bachgasse 8\n
DTSTAMP:20260420T002029Z
DTSTART;TZID=Europe/Vienna:20221119T150000
DTEND;TZID=Europe/Vienna:20221119T210000
SEQUENCE:0
TRANSP:OPAQUE
END:VEVENT
END:VCALENDAR