BEGIN:VCALENDAR
VERSION:2.0
PRODID:-//jEvents 2.0 for Joomla//EN
CALSCALE:GREGORIAN
METHOD:PUBLISH
BEGIN:VTIMEZONE
TZID:Europe/Vienna
END:VTIMEZONE
BEGIN:VEVENT
UID:a1099194e2c799fa5910ba3ed317599c
CATEGORIES:DEFAULT
SUMMARY:A Liga Mödling - BG 16
DESCRIPTION;ENCODING=QUOTED-PRINTABLE:<p><strong>Heimspiel im BG Mödling, Untere Bachgasse 8</strong></p>
DTSTAMP:20260419T171828Z
DTSTART;TZID=Europe/Vienna:20221119T150000
DTEND;TZID=Europe/Vienna:20221119T210000
SEQUENCE:0
TRANSP:OPAQUE
END:VEVENT
END:VCALENDAR