BEGIN:VCALENDAR
VERSION:2.0
PRODID:-//jEvents 2.0 for Joomla//EN
CALSCALE:GREGORIAN
METHOD:PUBLISH
BEGIN:VTIMEZONE
TZID:Europe/Vienna
END:VTIMEZONE
BEGIN:VEVENT
UID:103883ab92885e787e6cb2b16da87c1a
CATEGORIES:DEFAULT
SUMMARY:B Liga Mödling - Klosterneuburg
DESCRIPTION;ENCODING=QUOTED-PRINTABLE:<p>BG Mödling, Untere Bachgasse 8</p>
DTSTAMP:20260419T225806Z
DTSTART;TZID=Europe/Vienna:20221112T150000
DTEND;TZID=Europe/Vienna:20221112T210000
SEQUENCE:0
TRANSP:OPAQUE
END:VEVENT
END:VCALENDAR