BEGIN:VCALENDAR
VERSION:2.0
PRODID:-//jEvents 2.0 for Joomla//EN
CALSCALE:GREGORIAN
METHOD:PUBLISH
BEGIN:VTIMEZONE
TZID:Europe/Vienna
END:VTIMEZONE
BEGIN:VEVENT
UID:5c1432c38f68cb9b8f9e462947fe5295
CATEGORIES:DEFAULT
SUMMARY:1.Klasse Süd: Favoriten - Mödling
DESCRIPTION;ENCODING=QUOTED-PRINTABLE:\n\nCafe Anningerblick, 10. Dr Eberle Gasse 3\n
DTSTAMP:20260419T225304Z
DTSTART;TZID=Europe/Vienna:20221105T150000
DTEND;TZID=Europe/Vienna:20221105T210000
SEQUENCE:0
TRANSP:OPAQUE
END:VEVENT
END:VCALENDAR