BEGIN:VCALENDAR
VERSION:2.0
PRODID:-//jEvents 2.0 for Joomla//EN
CALSCALE:GREGORIAN
METHOD:PUBLISH
BEGIN:VTIMEZONE
TZID:Europe/Vienna
END:VTIMEZONE
BEGIN:VEVENT
UID:8a3c67a06923bc5fdf192eac6f9ac1ea
CATEGORIES:DEFAULT
SUMMARY:A Liga: Mödling - Hietzing
DESCRIPTION;ENCODING=QUOTED-PRINTABLE:<p>BG Mödling, Untere Bachgasse 8</p>
DTSTAMP:20260420T032155Z
DTSTART;TZID=Europe/Vienna:20221029T150000
DTEND;TZID=Europe/Vienna:20221029T210000
SEQUENCE:0
TRANSP:OPAQUE
END:VEVENT
END:VCALENDAR