BEGIN:VCALENDAR
VERSION:2.0
PRODID:-//jEvents 2.0 for Joomla//EN
CALSCALE:GREGORIAN
METHOD:PUBLISH
BEGIN:VTIMEZONE
TZID:Europe/Vienna
END:VTIMEZONE
BEGIN:VEVENT
UID:9b44c009ea6b148b431b8554efd38f7b
CATEGORIES:DEFAULT
SUMMARY:B Liga: Donaustadt - Mödling
DESCRIPTION;ENCODING=QUOTED-PRINTABLE:\n\nTV Kagran Seminarraum, 22. Anton Sattler Gasse 92-96\n
DTSTAMP:20260420T015734Z
DTSTART;TZID=Europe/Vienna:20221022T150000
DTEND;TZID=Europe/Vienna:20221022T210000
SEQUENCE:0
TRANSP:OPAQUE
END:VEVENT
END:VCALENDAR