BEGIN:VCALENDAR
VERSION:2.0
PRODID:-//jEvents 2.0 for Joomla//EN
CALSCALE:GREGORIAN
METHOD:PUBLISH
BEGIN:VTIMEZONE
TZID:Europe/Vienna
END:VTIMEZONE
BEGIN:VEVENT
UID:29c51425bfff7c7ef78269870b5dd1ba
CATEGORIES:DEFAULT
SUMMARY:1.Klasse Süd: Mödling - Austria
DESCRIPTION;ENCODING=QUOTED-PRINTABLE:\n\nBG Mödling, Untere Bachgasse 8\n
DTSTAMP:20260420T014615Z
DTSTART;TZID=Europe/Vienna:20221015T150000
DTEND;TZID=Europe/Vienna:20221015T210000
SEQUENCE:0
TRANSP:OPAQUE
END:VEVENT
END:VCALENDAR