BEGIN:VCALENDAR
VERSION:2.0
PRODID:-//jEvents 2.0 for Joomla//EN
CALSCALE:GREGORIAN
METHOD:PUBLISH
BEGIN:VTIMEZONE
TZID:Europe/Vienna
END:VTIMEZONE
BEGIN:VEVENT
UID:6b15a9b3abfcd6d266487773b37215c1
CATEGORIES:DEFAULT
SUMMARY:A Liga: Mödling - Hernals
DESCRIPTION;ENCODING=QUOTED-PRINTABLE:<p>BG Mödling, Untere Bachgasse 8</p>
DTSTAMP:20260420T014648Z
DTSTART;TZID=Europe/Vienna:20221015T150000
DTEND;TZID=Europe/Vienna:20221015T210000
SEQUENCE:0
TRANSP:OPAQUE
END:VEVENT
END:VCALENDAR