BEGIN:VCALENDAR
VERSION:2.0
PRODID:-//jEvents 2.0 for Joomla//EN
CALSCALE:GREGORIAN
METHOD:PUBLISH
BEGIN:VTIMEZONE
TZID:Europe/Vienna
END:VTIMEZONE
BEGIN:VEVENT
UID:38cdd9f036838fcf0f16f42d9dce7909
CATEGORIES:DEFAULT
SUMMARY:B Liga: Mödling - Hernals
DESCRIPTION;ENCODING=QUOTED-PRINTABLE:<p>BG Mödling, Untere Bachgasse 8</p>
DTSTAMP:20260420T032155Z
DTSTART;TZID=Europe/Vienna:20221008T150000
DTEND;TZID=Europe/Vienna:20221008T210000
SEQUENCE:0
TRANSP:OPAQUE
END:VEVENT
END:VCALENDAR