BEGIN:VCALENDAR
VERSION:2.0
PRODID:-//jEvents 2.0 for Joomla//EN
CALSCALE:GREGORIAN
METHOD:PUBLISH
BEGIN:VTIMEZONE
TZID:Europe/Vienna
END:VTIMEZONE
BEGIN:VEVENT
UID:79a20d0693aa07a64564533500611fb4
CATEGORIES:DEFAULT
SUMMARY:1.Klasse Süd: Ottakring - Mödling
DESCRIPTION;ENCODING=QUOTED-PRINTABLE:\n\nClub 217, 16. Ottakringer Strasse 217\n
DTSTAMP:20260420T014615Z
DTSTART;TZID=Europe/Vienna:20221001T150000
DTEND;TZID=Europe/Vienna:20221001T210000
SEQUENCE:0
TRANSP:OPAQUE
END:VEVENT
END:VCALENDAR