BEGIN:VCALENDAR
VERSION:2.0
PRODID:-//jEvents 2.0 for Joomla//EN
CALSCALE:GREGORIAN
METHOD:PUBLISH
BEGIN:VTIMEZONE
TZID:Europe/Vienna
END:VTIMEZONE
BEGIN:VEVENT
UID:a6d844d85cc2bbb8dc2fbd76b7b6cd4f
CATEGORIES:DEFAULT
SUMMARY:A Liga Ottakring  - Mödling
DESCRIPTION;ENCODING=QUOTED-PRINTABLE:<p>Club 217, 16. Ottakringer Strasse 217</p>
DTSTAMP:20260420T015849Z
DTSTART;TZID=Europe/Vienna:20221001T150000
DTEND;TZID=Europe/Vienna:20221001T210000
SEQUENCE:0
TRANSP:OPAQUE
END:VEVENT
END:VCALENDAR