BEGIN:VCALENDAR
VERSION:2.0
PRODID:-//jEvents 2.0 for Joomla//EN
CALSCALE:GREGORIAN
METHOD:PUBLISH
BEGIN:VTIMEZONE
TZID:Europe/Vienna
END:VTIMEZONE
BEGIN:VEVENT
UID:3c761a8f866825817735b71692ec24e2
CATEGORIES:DEFAULT
SUMMARY:9.Mödlinger Aktivschachturnier für Kinder bis 12 Jahre
DESCRIPTION;ENCODING=QUOTED-PRINTABLE:<p>im BG Mödling Bachgasse</p><p>am 4.September ab 14 Uhr</p><p>5 Runden Sc
 hweizer System, 15 min Bedenkzeit pro Partie</p><p>Details: <strong> <a hre
 f="http://chess-results.com/kalender.aspx?lan=0">Chess-Results.com - Turnie
 rkalender</a></strong></p><p> </p>
DTSTAMP:20260420T015832Z
DTSTART;TZID=Europe/Vienna:20220904T140000
DTEND;TZID=Europe/Vienna:20220904T170000
SEQUENCE:0
TRANSP:OPAQUE
END:VEVENT
END:VCALENDAR