BEGIN:VCALENDAR
VERSION:2.0
PRODID:-//jEvents 2.0 for Joomla//EN
CALSCALE:GREGORIAN
METHOD:PUBLISH
BEGIN:VTIMEZONE
TZID:Europe/Vienna
END:VTIMEZONE
BEGIN:VEVENT
UID:1c5be3ec906ce95a027df56c386d08fe
CATEGORIES:DEFAULT
SUMMARY:Schach beim Mödlinger Ferienspiel
DESCRIPTION;ENCODING=QUOTED-PRINTABLE:\n\nTreffpunkt: Ferienspielbüro in der Volksschule Harald Lowatschek\n\n\nL
 erchengasse 35, 2340 Mödling\n\n\nfür Mädchen und Buben von 6 - 14 Jahre\n
DTSTAMP:20260420T015827Z
DTSTART;TZID=Europe/Vienna:20220801T133000
DTEND;TZID=Europe/Vienna:20220801T150000
SEQUENCE:0
TRANSP:OPAQUE
END:VEVENT
END:VCALENDAR