BEGIN:VCALENDAR
VERSION:2.0
PRODID:-//jEvents 2.0 for Joomla//EN
CALSCALE:GREGORIAN
METHOD:PUBLISH
BEGIN:VTIMEZONE
TZID:Europe/Vienna
END:VTIMEZONE
BEGIN:VEVENT
UID:022ece6ef4860056d571c71be74bee02
CATEGORIES:DEFAULT
SUMMARY:Schach beim Mödlinger Ferienspiel
DESCRIPTION;ENCODING=QUOTED-PRINTABLE:\n\n \n\n\nTreffpunkt: Ferienspielbüro in der Volksschule Harald Lowatschek
 \n\n\nLerchengasse 35, 2340 Mödling\n\n\nfür Mädchen und Buben von 6 - 14 J
 ahre\n
DTSTAMP:20260420T015832Z
DTSTART;TZID=Europe/Vienna:20220707T130000
DTEND;TZID=Europe/Vienna:20220707T143000
SEQUENCE:0
TRANSP:OPAQUE
END:VEVENT
END:VCALENDAR