BEGIN:VCALENDAR
VERSION:2.0
PRODID:-//jEvents 2.0 for Joomla//EN
CALSCALE:GREGORIAN
METHOD:PUBLISH
BEGIN:VTIMEZONE
TZID:Europe/Vienna
END:VTIMEZONE
BEGIN:VEVENT
UID:72c87410a3e0d9f0ef8738e0fdede3bc
CATEGORIES:DEFAULT
SUMMARY:B Liga: Austria - Mödling 
DESCRIPTION;ENCODING=QUOTED-PRINTABLE:\n\nCafe Frey, 4.Favoriten Strasse 44\n
DTSTAMP:20260420T014516Z
DTSTART;TZID=Europe/Vienna:20220409T150000
DTEND;TZID=Europe/Vienna:20220409T210000
SEQUENCE:0
TRANSP:OPAQUE
END:VEVENT
END:VCALENDAR