BEGIN:VCALENDAR
VERSION:2.0
PRODID:-//jEvents 2.0 for Joomla//EN
CALSCALE:GREGORIAN
METHOD:PUBLISH
BEGIN:VTIMEZONE
TZID:Europe/Vienna
END:VTIMEZONE
BEGIN:VEVENT
UID:b1ec74e5eecdccfe330f1a507ae8d1bd
CATEGORIES:DEFAULT
SUMMARY:B Liga: Mödling - Hietzing
DESCRIPTION;ENCODING=QUOTED-PRINTABLE:<p>BG Mödling, Untere Bachgasse 8</p>
DTSTAMP:20260420T014648Z
DTSTART;TZID=Europe/Vienna:20220402T150000
DTEND;TZID=Europe/Vienna:20220402T210000
SEQUENCE:0
TRANSP:OPAQUE
END:VEVENT
END:VCALENDAR