BEGIN:VCALENDAR
VERSION:2.0
PRODID:-//jEvents 2.0 for Joomla//EN
CALSCALE:GREGORIAN
METHOD:PUBLISH
BEGIN:VTIMEZONE
TZID:Europe/Vienna
END:VTIMEZONE
BEGIN:VEVENT
UID:1ba5286904c63dfddc605cad7651e4c1
CATEGORIES:DEFAULT
SUMMARY:B Liga: Klosterneuburg - Mödling
DESCRIPTION;ENCODING=QUOTED-PRINTABLE:\n\nKBC Treff, Büropark Donau HAUS 7\n\n\n3400 Klosterneuburg, Inku Straße 
 1-7\n
DTSTAMP:20260420T015828Z
DTSTART;TZID=Europe/Vienna:20220319T150000
DTEND;TZID=Europe/Vienna:20220319T210000
SEQUENCE:0
TRANSP:OPAQUE
END:VEVENT
END:VCALENDAR