BEGIN:VCALENDAR
VERSION:2.0
PRODID:-//jEvents 2.0 for Joomla//EN
CALSCALE:GREGORIAN
METHOD:PUBLISH
BEGIN:VTIMEZONE
TZID:Europe/Vienna
END:VTIMEZONE
BEGIN:VEVENT
UID:92d8ad6885e560a932067de62757d137
CATEGORIES:DEFAULT
SUMMARY:2.Klasse Nord: Austria - Mödling
DESCRIPTION;ENCODING=QUOTED-PRINTABLE:<p>auswärts im Haus des Schachsports beim Happelstadion</p><p>1020 Wien, Ma
 rathonweg 14</p>
DTSTAMP:20260420T002203Z
DTSTART;TZID=Europe/Vienna:20220305T150000
DTEND;TZID=Europe/Vienna:20220305T210000
SEQUENCE:0
TRANSP:OPAQUE
END:VEVENT
END:VCALENDAR