BEGIN:VCALENDAR
VERSION:2.0
PRODID:-//jEvents 2.0 for Joomla//EN
CALSCALE:GREGORIAN
METHOD:PUBLISH
BEGIN:VTIMEZONE
TZID:Europe/Vienna
END:VTIMEZONE
BEGIN:VEVENT
UID:d6baf94df47e26db8767d35361114ed0
CATEGORIES:DEFAULT
SUMMARY:2.Klasse Nord: Mödling - Donau/Aljechin
DESCRIPTION;ENCODING=QUOTED-PRINTABLE:\n\nHeimspiel im BG Mödling, Untere Bachgasse 8\n
DTSTAMP:20260420T002029Z
DTSTART;TZID=Europe/Vienna:20220219T150000
DTEND;TZID=Europe/Vienna:20220219T200000
SEQUENCE:0
TRANSP:OPAQUE
END:VEVENT
END:VCALENDAR