BEGIN:VCALENDAR
VERSION:2.0
PRODID:-//jEvents 2.0 for Joomla//EN
CALSCALE:GREGORIAN
METHOD:PUBLISH
BEGIN:VTIMEZONE
TZID:Europe/Vienna
END:VTIMEZONE
BEGIN:VEVENT
UID:7362e84c87b8a81417f8a8dc862c1bc8
CATEGORIES:DEFAULT
SUMMARY:B Liga: Mödling - Arberia
DESCRIPTION;ENCODING=QUOTED-PRINTABLE:<p>Heimspiel im BG Mödling, Untere Bachgasse 8</p>
DTSTAMP:20260420T002121Z
DTSTART;TZID=Europe/Vienna:20220219T150000
DTEND;TZID=Europe/Vienna:20220219T200000
SEQUENCE:0
TRANSP:OPAQUE
END:VEVENT
END:VCALENDAR