BEGIN:VCALENDAR
VERSION:2.0
PRODID:-//jEvents 2.0 for Joomla//EN
CALSCALE:GREGORIAN
METHOD:PUBLISH
BEGIN:VTIMEZONE
TZID:Europe/Vienna
END:VTIMEZONE
BEGIN:VEVENT
UID:a6387b2a3756fc10d5edf28070c18632
CATEGORIES:DEFAULT
SUMMARY:1.Klasse Nord: Favoriten - Mödling 
DESCRIPTION;ENCODING=QUOTED-PRINTABLE:<p>auswärts im Cafe Anningerblick, 10. Dr Eberle Gasse 3</p>
DTSTAMP:20260420T002315Z
DTSTART;TZID=Europe/Vienna:20220212T150000
DTEND;TZID=Europe/Vienna:20220212T210000
SEQUENCE:0
TRANSP:OPAQUE
END:VEVENT
END:VCALENDAR