BEGIN:VCALENDAR
VERSION:2.0
PRODID:-//jEvents 2.0 for Joomla//EN
CALSCALE:GREGORIAN
METHOD:PUBLISH
BEGIN:VTIMEZONE
TZID:Europe/Vienna
END:VTIMEZONE
BEGIN:VEVENT
UID:b487c4bdd6c3ac8b16d1369af504ab80
CATEGORIES:DEFAULT
SUMMARY:1.Klasse Nord:  tschaturanga - Mödling
DESCRIPTION;ENCODING=QUOTED-PRINTABLE:\n\nWSV Haus des Schachsports, 2.Marathonweg 14\n
DTSTAMP:20260420T001923Z
DTSTART;TZID=Europe/Vienna:20220129T150000
DTEND;TZID=Europe/Vienna:20220129T210000
SEQUENCE:0
TRANSP:OPAQUE
END:VEVENT
END:VCALENDAR