BEGIN:VCALENDAR
VERSION:2.0
PRODID:-//jEvents 2.0 for Joomla//EN
CALSCALE:GREGORIAN
METHOD:PUBLISH
BEGIN:VTIMEZONE
TZID:Europe/Vienna
END:VTIMEZONE
BEGIN:VEVENT
UID:20509fb9a4c40e17827c04ddd8d5fcff
CATEGORIES:DEFAULT
SUMMARY:2.Klasse Nord: Favoriten - Mödling
DESCRIPTION;ENCODING=QUOTED-PRINTABLE:\n\nCafe Anningerblick, 10. Dr. Eberle Gasse 3\n
DTSTAMP:20260420T002101Z
DTSTART;TZID=Europe/Vienna:20220122T150000
DTEND;TZID=Europe/Vienna:20220122T210000
SEQUENCE:0
TRANSP:OPAQUE
END:VEVENT
END:VCALENDAR