BEGIN:VCALENDAR
VERSION:2.0
PRODID:-//jEvents 2.0 for Joomla//EN
CALSCALE:GREGORIAN
METHOD:PUBLISH
BEGIN:VTIMEZONE
TZID:Europe/Vienna
END:VTIMEZONE
BEGIN:VEVENT
UID:27d903d6129a38bad26b13ddb1f6acd5
CATEGORIES:DEFAULT
SUMMARY:B Liga Donaustadt - Mödling
DESCRIPTION;ENCODING=QUOTED-PRINTABLE:\n\nCharleys Corner, 22. Anton Sattler Gasse 92-96\n
DTSTAMP:20260420T002028Z
DTSTART;TZID=Europe/Vienna:20220122T150000
DTEND;TZID=Europe/Vienna:20220122T210000
SEQUENCE:0
TRANSP:OPAQUE
END:VEVENT
END:VCALENDAR