BEGIN:VCALENDAR
VERSION:2.0
PRODID:-//jEvents 2.0 for Joomla//EN
CALSCALE:GREGORIAN
METHOD:PUBLISH
BEGIN:VTIMEZONE
TZID:Europe/Vienna
END:VTIMEZONE
BEGIN:VEVENT
UID:6bf461fa6244b30fa02b2b8f08259c60
CATEGORIES:DEFAULT
SUMMARY:1.Klasse Nord: Mödling - Schmelz
DESCRIPTION;ENCODING=QUOTED-PRINTABLE:\n\nHeimspiel BG Mödling Untere Bachgasse 8\n
DTSTAMP:20260420T002029Z
DTSTART;TZID=Europe/Vienna:20220115T150000
DTEND;TZID=Europe/Vienna:20220115T210000
SEQUENCE:0
TRANSP:OPAQUE
END:VEVENT
END:VCALENDAR