BEGIN:VCALENDAR
VERSION:2.0
PRODID:-//jEvents 2.0 for Joomla//EN
CALSCALE:GREGORIAN
METHOD:PUBLISH
BEGIN:VTIMEZONE
TZID:Europe/Vienna
END:VTIMEZONE
BEGIN:VEVENT
UID:8d49f14c25d3986b022169c0e8b6ab51
CATEGORIES:DEFAULT
SUMMARY:2.Klasse Nord: Mödling - Schmelz
DESCRIPTION;ENCODING=QUOTED-PRINTABLE:\n\nHeimspiel BG Mödling Untere Bachgasse 8\n
DTSTAMP:20260420T002029Z
DTSTART;TZID=Europe/Vienna:20220108T150000
DTEND;TZID=Europe/Vienna:20220108T210000
SEQUENCE:0
TRANSP:OPAQUE
END:VEVENT
END:VCALENDAR