BEGIN:VCALENDAR
VERSION:2.0
PRODID:-//jEvents 2.0 for Joomla//EN
CALSCALE:GREGORIAN
METHOD:PUBLISH
BEGIN:VTIMEZONE
TZID:Europe/Vienna
END:VTIMEZONE
BEGIN:VEVENT
UID:c33e87f1822146d89819f2dd871a1d1d
CATEGORIES:DEFAULT
SUMMARY:B Liga: Mödling - Hernals
DESCRIPTION;ENCODING=QUOTED-PRINTABLE:\n\nHeimspiel im BG Mödling, Untere Bachgasse 8\n
DTSTAMP:20260420T001955Z
DTSTART;TZID=Europe/Vienna:20220108T150000
DTEND;TZID=Europe/Vienna:20220108T210000
SEQUENCE:0
TRANSP:OPAQUE
END:VEVENT
END:VCALENDAR