BEGIN:VCALENDAR
VERSION:2.0
PRODID:-//jEvents 2.0 for Joomla//EN
CALSCALE:GREGORIAN
METHOD:PUBLISH
BEGIN:VTIMEZONE
TZID:Europe/Vienna
END:VTIMEZONE
BEGIN:VEVENT
UID:56ef6793820832003f12d0773acd244e
CATEGORIES:DEFAULT
SUMMARY:2.Klasse Nord: Simmering - Mödling
DESCRIPTION;ENCODING=QUOTED-PRINTABLE:<p>Cafe Michelle , 10. Grillgasse 14A</p>
DTSTAMP:20260419T223858Z
DTSTART;TZID=Europe/Vienna:20211120T150000
DTEND;TZID=Europe/Vienna:20211120T210000
SEQUENCE:0
TRANSP:OPAQUE
END:VEVENT
END:VCALENDAR