BEGIN:VCALENDAR
VERSION:2.0
PRODID:-//jEvents 2.0 for Joomla//EN
CALSCALE:GREGORIAN
METHOD:PUBLISH
BEGIN:VTIMEZONE
TZID:Europe/Vienna
END:VTIMEZONE
BEGIN:VEVENT
UID:daa6d93aeec1e48578e4f02dafddce41
CATEGORIES:DEFAULT
SUMMARY:B Liga: Donau/Aljechin - Mödling
DESCRIPTION;ENCODING=QUOTED-PRINTABLE:\n\nWSV Haus des Schachsports, 2. Marathonweg 14\n
DTSTAMP:20260419T223847Z
DTSTART;TZID=Europe/Vienna:20211120T150000
DTEND;TZID=Europe/Vienna:20211120T210000
SEQUENCE:0
TRANSP:OPAQUE
END:VEVENT
END:VCALENDAR