BEGIN:VCALENDAR
VERSION:2.0
PRODID:-//jEvents 2.0 for Joomla//EN
CALSCALE:GREGORIAN
METHOD:PUBLISH
BEGIN:VTIMEZONE
TZID:Europe/Vienna
END:VTIMEZONE
BEGIN:VEVENT
UID:110cb0e798b00b6c4f11cd0608092df8
CATEGORIES:DEFAULT
SUMMARY:2.Klasse Nord: Mödling - Polyglott
DESCRIPTION;ENCODING=QUOTED-PRINTABLE:\n\nBG Mödling, Untere Bachgasse 8\n
DTSTAMP:20260420T001133Z
DTSTART;TZID=Europe/Vienna:20211106T150000
DTEND;TZID=Europe/Vienna:20211106T210000
SEQUENCE:0
TRANSP:OPAQUE
END:VEVENT
END:VCALENDAR