BEGIN:VCALENDAR
VERSION:2.0
PRODID:-//jEvents 2.0 for Joomla//EN
CALSCALE:GREGORIAN
METHOD:PUBLISH
BEGIN:VTIMEZONE
TZID:Europe/Vienna
END:VTIMEZONE
BEGIN:VEVENT
UID:0bdba5cdbe08bf4c0737ab3c0cc94252
CATEGORIES:DEFAULT
SUMMARY:2.Klasse Nord: Donaustadt - Mödling
DESCRIPTION;ENCODING=QUOTED-PRINTABLE:<p>Charleys Corner, 22. Anton Sattlergasse 96</p>
DTSTAMP:20260422T105631Z
DTSTART;TZID=Europe/Vienna:20211023T150000
DTEND;TZID=Europe/Vienna:20211023T200000
SEQUENCE:0
TRANSP:OPAQUE
END:VEVENT
END:VCALENDAR