BEGIN:VCALENDAR
VERSION:2.0
PRODID:-//jEvents 2.0 for Joomla//EN
CALSCALE:GREGORIAN
METHOD:PUBLISH
BEGIN:VTIMEZONE
TZID:Europe/Vienna
END:VTIMEZONE
BEGIN:VEVENT
UID:f68d5de9209136cbf7f446146a7e7a66
CATEGORIES:DEFAULT
SUMMARY:Mödlinger Weihnachtsturnier - Mid Season
DESCRIPTION;ENCODING=QUOTED-PRINTABLE:\n\nab 15 Uhr im Bg Mödling Bachgasse\n
DTSTAMP:20260419T152508Z
DTSTART;TZID=Europe/Vienna:20251213T150000
DTEND;TZID=Europe/Vienna:20251213T190000
SEQUENCE:0
TRANSP:OPAQUE
END:VEVENT
END:VCALENDAR