BEGIN:VCALENDAR
VERSION:2.0
PRODID:-//jEvents 2.0 for Joomla//EN
CALSCALE:GREGORIAN
METHOD:PUBLISH
BEGIN:VTIMEZONE
TZID:Europe/Vienna
END:VTIMEZONE
BEGIN:VEVENT
UID:f2bb52830f8af6a5c24fc14ab5a83333
CATEGORIES:DEFAULT
SUMMARY:A Liga Donaustadt - Mödling
DESCRIPTION;ENCODING=QUOTED-PRINTABLE:<p>auswärts bei Donaustadt,</p><p>TV Kagran, 1220 Wien Anton Sattler Gasse 
 92-96</p>
DTSTAMP:20260419T152553Z
DTSTART;TZID=Europe/Vienna:20251025T150000
DTEND;TZID=Europe/Vienna:20251025T210000
SEQUENCE:0
TRANSP:OPAQUE
END:VEVENT
END:VCALENDAR