BEGIN:VCALENDAR
VERSION:2.0
PRODID:-//jEvents 2.0 for Joomla//EN
CALSCALE:GREGORIAN
METHOD:PUBLISH
BEGIN:VTIMEZONE
TZID:Europe/Vienna
END:VTIMEZONE
BEGIN:VEVENT
UID:71b5857c8d4291269d4037a0fda71fda
CATEGORIES:DEFAULT
SUMMARY:2.Klasse Mödling - Schmelz/Klosterneuburg B
DESCRIPTION;ENCODING=QUOTED-PRINTABLE:<p><strong>Heimspiel im Mautwirtshaus !</strong></p>
DTSTAMP:20260419T152553Z
DTSTART;TZID=Europe/Vienna:20251004T150000
DTEND;TZID=Europe/Vienna:20251004T210000
SEQUENCE:0
TRANSP:OPAQUE
END:VEVENT
END:VCALENDAR