BEGIN:VCALENDAR
VERSION:2.0
PRODID:-//jEvents 2.0 for Joomla//EN
CALSCALE:GREGORIAN
METHOD:PUBLISH
BEGIN:VTIMEZONE
TZID:Europe/Vienna
END:VTIMEZONE
BEGIN:VEVENT
UID:7b9fd0041a6178a298f231f0b8793a13
CATEGORIES:DEFAULT
SUMMARY:A Liga Mödling - Austria
DESCRIPTION;ENCODING=QUOTED-PRINTABLE:<p>Heimspiel im BG Mödling Bachgasse</p>
DTSTAMP:20260419T152542Z
DTSTART;TZID=Europe/Vienna:20250927T150000
DTEND;TZID=Europe/Vienna:20250927T210000
SEQUENCE:0
TRANSP:OPAQUE
END:VEVENT
END:VCALENDAR