BEGIN:VCALENDAR
VERSION:2.0
PRODID:-//jEvents 2.0 for Joomla//EN
CALSCALE:GREGORIAN
METHOD:PUBLISH
BEGIN:VTIMEZONE
TZID:Europe/Vienna
END:VTIMEZONE
BEGIN:VEVENT
UID:2ac796cb5e810609f8910dbf90e30fc8
CATEGORIES:DEFAULT
SUMMARY:12. Mödlinger Aktivschachturnier für Kinder bis 12 Jahre
DESCRIPTION;ENCODING=QUOTED-PRINTABLE:<p>im BG Mödling, Untere Bachgasse 8</p>
DTSTAMP:20260419T152552Z
DTSTART;TZID=Europe/Vienna:20250831T140000
DTEND;TZID=Europe/Vienna:20250831T170000
SEQUENCE:0
TRANSP:OPAQUE
END:VEVENT
END:VCALENDAR