BEGIN:VCALENDAR
VERSION:2.0
PRODID:-//jEvents 2.0 for Joomla//EN
CALSCALE:GREGORIAN
METHOD:PUBLISH
BEGIN:VTIMEZONE
TZID:Europe/Vienna
END:VTIMEZONE
BEGIN:VEVENT
UID:62f59973b765f3683f0c1a0766d99ef9
CATEGORIES:DEFAULT
SUMMARY:Mödlinger Ferienspiel - Schach
DESCRIPTION;ENCODING=QUOTED-PRINTABLE:<p>für Kinder von 6 - 14 Jahre</p><p>Anmeldung und Information im Ferienspi
 elbüro: 02236 / 46511<br />Sportvolksschule, Lerchengasse 35<br />2340 Mödl
 ing</p><p><a href="https://www.moedling.at/Moedlinger_Ferienspiel_2025">Sta
 dtgemeinde Mödling online - Ihr offizielles Infoweb der Stadt! - Home - Sta
 dt - Service - Mobilität & Parken</a></p>
DTSTAMP:20260419T152553Z
DTSTART;TZID=Europe/Vienna:20250630T133000
DTEND;TZID=Europe/Vienna:20250630T150000
SEQUENCE:0
TRANSP:OPAQUE
END:VEVENT
END:VCALENDAR