BEGIN:VCALENDAR
VERSION:2.0
PRODID:-//jEvents 2.0 for Joomla//EN
CALSCALE:GREGORIAN
METHOD:PUBLISH
BEGIN:VTIMEZONE
TZID:Europe/Vienna
END:VTIMEZONE
BEGIN:VEVENT
UID:eac03061b26bcac7116437c402936b1f
CATEGORIES:DEFAULT
SUMMARY:Mödlinger Ferienspiel - Schach
DESCRIPTION;ENCODING=QUOTED-PRINTABLE:\n\nfür Kinder von 6 - 14 Jahre\n\n\nAnmeldung und Information im Ferienspi
 elbüro: 02236 / 46511\nSportvolksschule, Lerchengasse 35\n2340 Mödling\n\n\
 nStadtgemeinde Mödling online - Ihr offizielles Infoweb der Stadt! - Home -
  Stadt - Service - Mobilität & Parken\n
DTSTAMP:20260419T152513Z
DTSTART;TZID=Europe/Vienna:20250710T130000
DTEND;TZID=Europe/Vienna:20250710T143000
SEQUENCE:0
TRANSP:OPAQUE
END:VEVENT
END:VCALENDAR