BEGIN:VCALENDAR
VERSION:2.0
PRODID:-//jEvents 2.0 for Joomla//EN
CALSCALE:GREGORIAN
METHOD:PUBLISH
BEGIN:VTIMEZONE
TZID:Europe/Vienna
END:VTIMEZONE
BEGIN:VEVENT
UID:f4db7b806b955e8f53b5cffe7f6135a3
CATEGORIES:DEFAULT
SUMMARY:1.Klasse: Ottakring - Mödling
DESCRIPTION;ENCODING=QUOTED-PRINTABLE:\n\n16. Ottakringer Strasse 217\n\n\nClub 217\n
DTSTAMP:20260419T152513Z
DTSTART;TZID=Europe/Vienna:20250405T150000
DTEND;TZID=Europe/Vienna:20250405T210000
SEQUENCE:0
TRANSP:OPAQUE
END:VEVENT
END:VCALENDAR