BEGIN:VCALENDAR
VERSION:2.0
PRODID:-//jEvents 2.0 for Joomla//EN
CALSCALE:GREGORIAN
METHOD:PUBLISH
BEGIN:VTIMEZONE
TZID:Europe/Vienna
END:VTIMEZONE
BEGIN:VEVENT
UID:b69da27360a0599901d399143cd07ebe
CATEGORIES:DEFAULT
SUMMARY:A Liga Ottakring - Mödling
DESCRIPTION;ENCODING=QUOTED-PRINTABLE:<p>gemeinsame A Liga Schlussrunde</p><p>im Wiener Schachhhaus beim Happelst
 adion</p>
DTSTAMP:20260419T152552Z
DTSTART;TZID=Europe/Vienna:20250405T150000
DTEND;TZID=Europe/Vienna:20250405T210000
SEQUENCE:0
TRANSP:OPAQUE
END:VEVENT
END:VCALENDAR