BEGIN:VCALENDAR
VERSION:2.0
PRODID:-//jEvents 2.0 for Joomla//EN
CALSCALE:GREGORIAN
METHOD:PUBLISH
BEGIN:VTIMEZONE
TZID:Europe/Vienna
END:VTIMEZONE
BEGIN:VEVENT
UID:9bd31d185967681a0ec34b063641d075
CATEGORIES:DEFAULT
SUMMARY:1.Klasse: Austria - Mödling
DESCRIPTION;ENCODING=QUOTED-PRINTABLE:<p>auswärts im Haus des Schachsports beim Happelstadion</p>
DTSTAMP:20260419T170544Z
DTSTART;TZID=Europe/Vienna:20250322T150000
DTEND;TZID=Europe/Vienna:20250322T210000
SEQUENCE:0
TRANSP:OPAQUE
END:VEVENT
END:VCALENDAR