BEGIN:VCALENDAR
VERSION:2.0
PRODID:-//jEvents 2.0 for Joomla//EN
CALSCALE:GREGORIAN
METHOD:PUBLISH
BEGIN:VTIMEZONE
TZID:Europe/Vienna
END:VTIMEZONE
BEGIN:VEVENT
UID:9e034aa221e7f5c55914764f4aee3d0d
CATEGORIES:DEFAULT
SUMMARY:A Liga  Austria - Mödling
DESCRIPTION;ENCODING=QUOTED-PRINTABLE:\n\nauswärts im Haus des Schachsports beim Happelstadion\n
DTSTAMP:20260419T173109Z
DTSTART;TZID=Europe/Vienna:20250322T150000
DTEND;TZID=Europe/Vienna:20250322T210000
SEQUENCE:0
TRANSP:OPAQUE
END:VEVENT
END:VCALENDAR