BEGIN:VCALENDAR
VERSION:2.0
PRODID:-//jEvents 2.0 for Joomla//EN
CALSCALE:GREGORIAN
METHOD:PUBLISH
BEGIN:VTIMEZONE
TZID:Europe/Vienna
END:VTIMEZONE
BEGIN:VEVENT
UID:c09dde8381e06a384d67bd0daf90f133
CATEGORIES:DEFAULT
SUMMARY:B Liga: Donaustadt - Mödling
DESCRIPTION;ENCODING=QUOTED-PRINTABLE:\n\nauswärts beim TV Kagran, 1220 Wien, Anton Sattler Gasse 92-96\n
DTSTAMP:20260419T170427Z
DTSTART;TZID=Europe/Vienna:20250315T150000
DTEND;TZID=Europe/Vienna:20250315T210000
SEQUENCE:0
TRANSP:OPAQUE
END:VEVENT
END:VCALENDAR