BEGIN:VCALENDAR
VERSION:2.0
PRODID:-//jEvents 2.0 for Joomla//EN
CALSCALE:GREGORIAN
METHOD:PUBLISH
BEGIN:VTIMEZONE
TZID:Europe/Vienna
END:VTIMEZONE
BEGIN:VEVENT
UID:13f27d5e5d40ad1771e698b53be05e9e
CATEGORIES:DEFAULT
SUMMARY:A Liga Mödling - BG 16
DESCRIPTION;ENCODING=QUOTED-PRINTABLE:\n\nHeimspiel im BG Mödling, Untere Bachgasse 8\n
DTSTAMP:20260419T171628Z
DTSTART;TZID=Europe/Vienna:20250308T150000
DTEND;TZID=Europe/Vienna:20250308T210000
SEQUENCE:0
TRANSP:OPAQUE
END:VEVENT
END:VCALENDAR