BEGIN:VCALENDAR
VERSION:2.0
PRODID:-//jEvents 2.0 for Joomla//EN
CALSCALE:GREGORIAN
METHOD:PUBLISH
BEGIN:VTIMEZONE
TZID:Europe/Vienna
END:VTIMEZONE
BEGIN:VEVENT
UID:e3170676d7c3eff3ba39a72b0afbe985
CATEGORIES:DEFAULT
SUMMARY:B Liga: Mödling - Polyglott
DESCRIPTION;ENCODING=QUOTED-PRINTABLE:<p>BG Mödling, Untere Bachgasse 8</p>
DTSTAMP:20260419T170546Z
DTSTART;TZID=Europe/Vienna:20250301T150000
DTEND;TZID=Europe/Vienna:20250301T210000
SEQUENCE:0
TRANSP:OPAQUE
END:VEVENT
END:VCALENDAR