BEGIN:VCALENDAR
VERSION:2.0
PRODID:-//jEvents 2.0 for Joomla//EN
CALSCALE:GREGORIAN
METHOD:PUBLISH
BEGIN:VTIMEZONE
TZID:Europe/Vienna
END:VTIMEZONE
BEGIN:VEVENT
UID:1262d2e7704d15b99c95b7b3d141345d
CATEGORIES:DEFAULT
SUMMARY:1.Klasse Klosterneuburg - Mödling
DESCRIPTION;ENCODING=QUOTED-PRINTABLE:<p>Klosterneuburg, Hotel Anker</p>
DTSTAMP:20260419T170552Z
DTSTART;TZID=Europe/Vienna:20250222T150000
DTEND;TZID=Europe/Vienna:20250222T210000
SEQUENCE:0
TRANSP:OPAQUE
END:VEVENT
END:VCALENDAR