BEGIN:VCALENDAR
VERSION:2.0
PRODID:-//jEvents 2.0 for Joomla//EN
CALSCALE:GREGORIAN
METHOD:PUBLISH
BEGIN:VTIMEZONE
TZID:Europe/Vienna
END:VTIMEZONE
BEGIN:VEVENT
UID:bd338979822037881c1073b4bc3250d9
CATEGORIES:DEFAULT
SUMMARY:1.Klasse B: Mödling - Auhof
DESCRIPTION;ENCODING=QUOTED-PRINTABLE:<p><strong>Heimspiel im BG Mödling, Untere Bachgasse 8</strong></p>
DTSTAMP:20260419T170545Z
DTSTART;TZID=Europe/Vienna:20241123T150000
DTEND;TZID=Europe/Vienna:20241123T210000
SEQUENCE:0
TRANSP:OPAQUE
END:VEVENT
END:VCALENDAR