BEGIN:VCALENDAR
VERSION:2.0
PRODID:-//jEvents 2.0 for Joomla//EN
CALSCALE:GREGORIAN
METHOD:PUBLISH
BEGIN:VTIMEZONE
TZID:Europe/Vienna
END:VTIMEZONE
BEGIN:VEVENT
UID:b5ec3286639a235d323f96a4c9bc125f
CATEGORIES:DEFAULT
SUMMARY:A Liga Mödling - tschaturanga
DESCRIPTION;ENCODING=QUOTED-PRINTABLE:<p><strong>Heimspiel im BG Mödling, Untere Bachgasse 8</strong></p>
DTSTAMP:20260419T171828Z
DTSTART;TZID=Europe/Vienna:20241123T150000
DTEND;TZID=Europe/Vienna:20241123T210000
SEQUENCE:0
TRANSP:OPAQUE
END:VEVENT
END:VCALENDAR